BEGIN:VCALENDAR
VERSION:2.0
PRODID:-//Film Sound &amp; Media - ECPv6.15.20//NONSGML v1.0//EN
CALSCALE:GREGORIAN
METHOD:PUBLISH
X-ORIGINAL-URL:https://filmsoundmedia.at
X-WR-CALDESC:Veranstaltungen für Film Sound &amp; Media
REFRESH-INTERVAL;VALUE=DURATION:PT1H
X-Robots-Tag:noindex
X-PUBLISHED-TTL:PT1H
BEGIN:VTIMEZONE
TZID:Europe/Vienna
BEGIN:DAYLIGHT
TZOFFSETFROM:+0100
TZOFFSETTO:+0200
TZNAME:CEST
DTSTART:20250330T010000
END:DAYLIGHT
BEGIN:STANDARD
TZOFFSETFROM:+0200
TZOFFSETTO:+0100
TZNAME:CET
DTSTART:20251026T010000
END:STANDARD
BEGIN:DAYLIGHT
TZOFFSETFROM:+0100
TZOFFSETTO:+0200
TZNAME:CEST
DTSTART:20260329T010000
END:DAYLIGHT
BEGIN:STANDARD
TZOFFSETFROM:+0200
TZOFFSETTO:+0100
TZNAME:CET
DTSTART:20261025T010000
END:STANDARD
BEGIN:DAYLIGHT
TZOFFSETFROM:+0100
TZOFFSETTO:+0200
TZNAME:CEST
DTSTART:20270328T010000
END:DAYLIGHT
BEGIN:STANDARD
TZOFFSETFROM:+0200
TZOFFSETTO:+0100
TZNAME:CET
DTSTART:20271031T010000
END:STANDARD
END:VTIMEZONE
BEGIN:VEVENT
DTSTART;TZID=Europe/Vienna:20260127T100000
DTEND;TZID=Europe/Vienna:20260129T180000
DTSTAMP:20260421T103057
CREATED:20260109T121616Z
LAST-MODIFIED:20260109T121616Z
UID:26277-1769508000-1769709600@filmsoundmedia.at
SUMMARY:CIMIx 2026: KI in der Kulturwirtschaft
DESCRIPTION:Der KI-Schwerpunkt am Nachmittag des 27.1. bietet einen Überblick über Angebote in Bildung und Beratung für Unternehmen sowie eine ausführliche Auseinandersetzung mit der künstlichen Intelligenz in der Kulturwirtschaft.\nAm 28.1. kommt es ganztägig zu Panels und Talks zu alternativen Finanzierungen für kreative Projekte\, strategischer Transformation und Impulsen zur Marktpositionierung.\nDie CIMIx Konferenz ist ein Ort für die Anbahnung von Zusammenarbeit in der eigenen und mit anderen Branchen. Nutzen Sie die außergewöhnliche Gelegenheit für spontane und strukturierte Meetings in einem innovativen Umfeld.\nAlle Infos + Anmeldung
URL:https://filmsoundmedia.at/event/cimix-2026-ki-in-der-kulturwirtschaft/
LOCATION:WKO\, Wiedner Hauptstraße 63\, 1045 Wien
ATTACH;FMTTYPE=image/jpeg:https://filmsoundmedia.at/wp-content/uploads/2026/01/A62EzdnXGjZbWvZ5Sn1nrnex.jpg
END:VEVENT
END:VCALENDAR