BEGIN:VCALENDAR
VERSION:2.0
PRODID:-//Film Sound &amp; Media - ECPv6.15.20//NONSGML v1.0//EN
CALSCALE:GREGORIAN
METHOD:PUBLISH
X-ORIGINAL-URL:https://filmsoundmedia.at
X-WR-CALDESC:Veranstaltungen für Film Sound &amp; Media
REFRESH-INTERVAL;VALUE=DURATION:PT1H
X-Robots-Tag:noindex
X-PUBLISHED-TTL:PT1H
BEGIN:VTIMEZONE
TZID:Europe/Vienna
BEGIN:DAYLIGHT
TZOFFSETFROM:+0100
TZOFFSETTO:+0200
TZNAME:CEST
DTSTART:20250330T010000
END:DAYLIGHT
BEGIN:STANDARD
TZOFFSETFROM:+0200
TZOFFSETTO:+0100
TZNAME:CET
DTSTART:20251026T010000
END:STANDARD
BEGIN:DAYLIGHT
TZOFFSETFROM:+0100
TZOFFSETTO:+0200
TZNAME:CEST
DTSTART:20260329T010000
END:DAYLIGHT
BEGIN:STANDARD
TZOFFSETFROM:+0200
TZOFFSETTO:+0100
TZNAME:CET
DTSTART:20261025T010000
END:STANDARD
BEGIN:DAYLIGHT
TZOFFSETFROM:+0100
TZOFFSETTO:+0200
TZNAME:CEST
DTSTART:20270328T010000
END:DAYLIGHT
BEGIN:STANDARD
TZOFFSETFROM:+0200
TZOFFSETTO:+0100
TZNAME:CET
DTSTART:20271031T010000
END:STANDARD
END:VTIMEZONE
BEGIN:VEVENT
DTSTART;TZID=Europe/Vienna:20260524T163000
DTEND;TZID=Europe/Vienna:20260524T180000
DTSTAMP:20260419T223403
CREATED:20260415T090840Z
LAST-MODIFIED:20260415T090840Z
UID:26930-1779640200-1779645600@filmsoundmedia.at
SUMMARY:Programmpräsentation: 30 Jahre glatt & verkehrt
DESCRIPTION:Das renommierte Kremser Musikfestival lädt zum Jubiläum und bei der Programmpräsentation gibt es Musik von Anja Ohm und Die Strottern (Foto: Julia Stix) \nSeit 1997 kommen Jahr für Jahr Musiker:innen aus allen Erdteilen im Juli nach Krems und Umgebung\, um für mehr als zwei Wochen ihr Publikum an den verschiedenen idyllischen Festivalschauplätzen zu überraschen\, mitzureißen und zu begeistern.  Die Jubiläumsausgabe bringt 17 Konzerte mit Musik-Ideen aus 13 Ländern bzw. 4 Kontinenten – mit allen Ingredienzien\, die Glatt&Verkehrt seit 30 Jahren ausmachen: „musikalische Trüffeln“ (Der Standard) aufzustöbern und nach Krems zu bringen\, spezielle Programme oder Uraufführungen zu initiieren\, gefeierte Bands der vergangenen Jahre mit neuen Programmen\nwieder zum Festival zu holen.\nÖsterreich-Debüts geben 2026 unter anderem die englische Band Honeyfeet mit der charismatischen Sängerin Ríoghnach Connolly (22.07.)\, das große Berlin-Westafrika-Projekt Le Mali 70 (23.07.) oder die franko-kolumbianische Band-Leaderin Ëda Diaz (25.07.). \nAn heimische Musiker:innen ergingen wieder Spezial-Aufträge: Die Sängerin und Komponistin Anja Om wird ein Song-Programm zur Uraufführung bringen\, bei dem sie\, inspiriert von Beispielen legendärer Kolleginnen von Björk bis Nina Simone\, neue Lieder präsentiert\, mit prominent besetzter\, eigens für diesen Anlass zusammengestellter Band. Die Premiere findet am 24.07. bei den Winzern Krems in der Sandgrube 13 statt. \nDas fünftägige Programm an diesem Schauplatz wird ebenfalls mit einer Premiere eröffnet: „wia i tua“ – der CD-Release des neuen Programmes von Die Strottern & Blech.\nAus dem kreativen Experimentierfeld der Musikwerkstatt (die heuer vom 11.-17.07. mit rund 80 Teilnehmenden inklusive den legendären\, öffentlichem Werkstattreprisen wieder in Göttweig stattfindet) löst sich diesmal das Referent:innen-Team heraus: Die Göttweiger Sieben geben gemeinsam ein Konzert im Klangraum Krems Minoritenkirche (11.07.): Volksmusik aus Schweden trifft Singer Songwriter\, Jodler trifft jiddisches Lied.\nDie atmosphärische Minoritenkirche in Krems-Stein ist diesmal der Ort für das erste Wochenende. Eröffnet wird das Festival dort bereits am Tag zuvor\, am 10.07.\, mit einem Ensemble\, dessen Debüt 2018 – damals auf der Bühne der Winzer – nachhaltigen Eindruck hinterlassen hat: This is How we Fly aus Irland/USA/Schweden. \nFür den ausgelassenen Festival-Abschluss am 26.07. sorgen zwei fast schon legendäre Bands aus dem Glatt&Verkehrt-Universum\, die finnische Band Värttinä und die rumänische Blasmusik Fanfare Ciocărlia. Diese legendäre Formation ist genauso alt (oder jung) wie das Festival\, kommt aber 2026 tatsächlich zum ersten Mal zu Glatt&Verkehrt. \nNeben bewährten Spielorten ist diesmal die gotische Ursulakapelle im Herzen von Krems als neue Location dabei (25. und 26.07.). In hautnahen Solo-Settings spielen Cellistin Asja Valčić und Posaunist Bertl Mütter mehrere Kurz-Konzerte.\nSeit 2018 ist das Gasthaus Salzstadl Austragungsort einer kleinen\, besonders beliebten Reihe: Tafelmusik heißt es zweimal am 23. und 24.07.\, unter Beteiligung von österreichischen Acts und ebensolchem Mittagessen.\nVor allen Winzerkonzerten wird es wieder einführende Künstler:innen-Gespräche geben\n(Achtung: Zählkartenreservierung erforderlich!) \nDas Gesamtprogramm mit ausführlichen Texten und Informationen ist ab sofort online. \nAm 24.05.\, 16:30 Uhr\, findet eine öffentlich zugängige Programmpräsentation mit Live-Musik von Anja Om und Die Strottern im Wiener Radiokulturhaus statt. Anmeldungen unter: radiokulturhaus@orf.at.
URL:https://filmsoundmedia.at/event/programmpraesentation-30-jahre-glatt-verkehrt/
LOCATION:Radiokulturhaus\, Argentinierstraße 45\, 1040 Wien
ATTACH;FMTTYPE=image/jpeg:https://filmsoundmedia.at/wp-content/uploads/2019/05/press_die-strottern_c_julia-stix.jpg
END:VEVENT
END:VCALENDAR