BEGIN:VCALENDAR
VERSION:2.0
PRODID:-//Film Sound &amp; Media - ECPv6.15.20//NONSGML v1.0//EN
CALSCALE:GREGORIAN
METHOD:PUBLISH
X-WR-CALNAME:Film Sound &amp; Media
X-ORIGINAL-URL:https://filmsoundmedia.at
X-WR-CALDESC:Veranstaltungen für Film Sound &amp; Media
REFRESH-INTERVAL;VALUE=DURATION:PT1H
X-Robots-Tag:noindex
X-PUBLISHED-TTL:PT1H
BEGIN:VTIMEZONE
TZID:Europe/Vienna
BEGIN:DAYLIGHT
TZOFFSETFROM:+0100
TZOFFSETTO:+0200
TZNAME:CEST
DTSTART:20250330T010000
END:DAYLIGHT
BEGIN:STANDARD
TZOFFSETFROM:+0200
TZOFFSETTO:+0100
TZNAME:CET
DTSTART:20251026T010000
END:STANDARD
BEGIN:DAYLIGHT
TZOFFSETFROM:+0100
TZOFFSETTO:+0200
TZNAME:CEST
DTSTART:20260329T010000
END:DAYLIGHT
BEGIN:STANDARD
TZOFFSETFROM:+0200
TZOFFSETTO:+0100
TZNAME:CET
DTSTART:20261025T010000
END:STANDARD
BEGIN:DAYLIGHT
TZOFFSETFROM:+0100
TZOFFSETTO:+0200
TZNAME:CEST
DTSTART:20270328T010000
END:DAYLIGHT
BEGIN:STANDARD
TZOFFSETFROM:+0200
TZOFFSETTO:+0100
TZNAME:CET
DTSTART:20271031T010000
END:STANDARD
END:VTIMEZONE
BEGIN:VEVENT
DTSTART;TZID=Europe/Vienna:20260702T200000
DTEND;TZID=Europe/Vienna:20260702T220000
DTSTAMP:20260420T084500
CREATED:20260318T133506Z
LAST-MODIFIED:20260318T133506Z
UID:26630-1783022400-1783029600@filmsoundmedia.at
SUMMARY:50 Jahre Sommerspiele Perchtoldsdorf – Jubiläumsproduktion 2026
DESCRIPTION:Ein schmerzlich vermisster Liebling des Wiener Theaterpublikums: Fabian Krüger (Foto: Jan Frankl) \n„Ein unvergessliches und unvergängliches Werk … so steht es einsam und überragend in seiner Zeit.“ Stefan Zweig\nGetragen von Till Eulenspiegels unvergänglich freiem Geist\, den er kompromisslos\, wortgewaltig und voller Witz in jeder Lebenslage zu verteidigen weiß\, feiern die Sommerspiele Perchtoldsdorf ihr 50-jähriges Jubiläum.   Erneut bereitet ein hochkarätiges Team ein spartenübergreifendes Theaterereignis vor. Wie in den erfolgreichen Spielzeiten zuvor\, entsteht ein Abend\, an dem Schauspiel\, Musik und faszinierende Bildwelten zu einem atmosphärisch dichten Gesamtkunstwerk verschmelzen.   Die Sommerspiele haben in den vergangenen Jahren bewiesen\, dass sie den Mut zu großen Themen besitzen und auf ein Publikum zählen können\, das bereit ist\, sich berühren und überraschen zu lassen. Die Abende in Perchtoldsdorf strahlen weit über den Ort hinaus.   „Till Eulenspiegel“ wird diese Linie fortsetzen. \nTill Eulenspiegel: Theaterstück nach dem Roman von Charles De Coster\nAlexander Paul Kubelka: Intendanz / Regie / Bühne \nPremiere: 2.07.\nTermine:\nMatinee\, 21.06.\n2.7.-1.8.
URL:https://filmsoundmedia.at/event/50-jahre-sommerspiele-perchtoldsdorf-jubilaeumsproduktion-2026/
LOCATION:Burg Perchtoldsdorf\, Paul-Katzberger-Platz 1\, 2380 Perchtoldsdorf
END:VEVENT
END:VCALENDAR